BEGIN:VCALENDAR
VERSION:2.0
PRODID:icalendar-ruby
CALSCALE:GREGORIAN
METHOD:PUBLISH
BEGIN:VEVENT
DTSTAMP:20260422T134545Z
UID:386-3930834@tradingford.net
DTSTART:20260916T230000Z
DTEND:20260917T000000Z
CLASS:PUBLIC
CREATED:20260422T070811
DESCRIPTION:Multi Step Study - Small Group \nPlease see Nancy Noto for mor
 e info.
LAST-MODIFIED:20260422T070811
LOCATION:Steve Wilson Classroom
SUMMARY:Multi Step Study - Small Group
URL;VALUE=URI:https://www.tradingford.net/events/multi-step-study-small-gro
 up/2026-09-16
END:VEVENT
END:VCALENDAR
