BEGIN:VCALENDAR
VERSION:2.0
PRODID:icalendar-ruby
CALSCALE:GREGORIAN
METHOD:PUBLISH
BEGIN:VEVENT
DTSTAMP:20260422T170404Z
UID:386-3935948@tradingford.net
DTSTART:20260930T230000Z
DTEND:20261001T000000Z
CLASS:PUBLIC
CREATED:20260422T125816
DESCRIPTION:Multi Step Study - Small Group \nPlease see Nancy Noto for mor
 e info.
LAST-MODIFIED:20260422T125816
LOCATION:Steve Wilson Classroom
SUMMARY:Multi Step Study - Small Group
URL;VALUE=URI:https://www.tradingford.net/events/multi-step-study-small-gro
 up/2026-09-30
END:VEVENT
END:VCALENDAR
