BEGIN:VCALENDAR
VERSION:2.0
PRODID:icalendar-ruby
CALSCALE:GREGORIAN
METHOD:PUBLISH
BEGIN:VEVENT
DTSTAMP:20260422T215205Z
UID:386-3938507@tradingford.net
DTSTART:20261021T230000Z
DTEND:20261022T000000Z
CLASS:PUBLIC
CREATED:20260422T155310
DESCRIPTION:Multi Step Study - Small Group \nPlease see Nancy Noto for mor
 e info.
LAST-MODIFIED:20260422T155310
LOCATION:Steve Wilson Classroom
SUMMARY:Multi Step Study - Small Group
URL;VALUE=URI:https://www.tradingford.net/events/multi-step-study-small-gro
 up/2026-10-21
END:VEVENT
END:VCALENDAR
